BEGIN:VCALENDAR
METHOD:PUBLISH
PRODID:-//LogicWorks GmbH//NONSGML Contentory//EN
VERSION:2.0
BEGIN:VEVENT
DTSTAMP:20260420T180320Z
SUMMARY:SIF as a predictor in data-driven simulations of carbon fluxes
DESCRIPTION:Dr. Sophia Walther (MPI Jena) shows how SIF can be integrated into the mod
 eling of carbon fluxes. https://flex-mission.eu/seminar-9-en
LOCATION:online
CREATED:2024-02-09T105550+0100
LAST-MODIFIED:2024-12-02T134459+0100
DTSTART;VALUE=DATE:2024-12-13T140000+0100
DTEND;VALUE=DATE:2024-12-13T150000+0100
UID:sn_108@logic-works.net
END:VEVENT
END:VCALENDAR