BEGIN:VCALENDAR
METHOD:PUBLISH
PRODID:-//LogicWorks GmbH//NONSGML Contentory//EN
VERSION:2.0
BEGIN:VEVENT
DTSTAMP:20260422T134301Z
SUMMARY:SIF als Prediktor in datengetriebenen Simulationen von Kohlenstoffflüssen
DESCRIPTION:Dr. Sophia Walther (MPI Jena) zeigt wie SIF in die Modellierung von Kohlen
 stoffflüssen eingebunden werden kann. https://flex-mission.eu/seminar-9-d
 e
LOCATION:online
CREATED:2024-02-09T103324+0100
LAST-MODIFIED:2024-11-05T125248+0100
DTSTART;VALUE=DATE:2024-12-13T140000+0100
DTEND;VALUE=DATE:2024-12-13T150000+0100
UID:sn_107@logic-works.net
END:VEVENT
END:VCALENDAR