BEGIN:VCALENDAR
METHOD:PUBLISH
PRODID:-//LogicWorks GmbH//NONSGML Contentory//EN
VERSION:2.0
BEGIN:VEVENT
DTSTAMP:20260420T193729Z
SUMMARY:An overview of the FLEX Collaborative Platform
DESCRIPTION:Dr Marin Tudoroiu (ESA) gives an overview of the data portal for FLEX data
  https://flex-mission.eu/seminar-5-en
LOCATION:Online
CREATED:2023-05-16T130421+0200
LAST-MODIFIED:2023-08-28T090209+0200
DTSTART;VALUE=DATE:2024-02-23T140000+0100
DTEND;VALUE=DATE:2024-02-23T150000+0100
UID:sn_73@logic-works.net
END:VEVENT
END:VCALENDAR