BEGIN:VCALENDAR
METHOD:PUBLISH
PRODID:-//LogicWorks GmbH//NONSGML Contentory//EN
VERSION:2.0
BEGIN:VEVENT
DTSTAMP:20260420T195313Z
SUMMARY:Buschbrand-Erholung und wie die Fernerkundung und SIF dazu beitragen könn
 en
DESCRIPTION:Dr. William Woodgate (UQ) stellt vor\, wie die Fernerkundung und SIF zur E
 rholung nach Buschbränden beitragen können. https://flex-mission.eu/semi
 nar-12-de
LOCATION:online
CREATED:2025-07-29T074226+0200
LAST-MODIFIED:2025-09-05T154708+0200
DTSTART;VALUE=DATE:2025-09-12T120000+0200
DTEND;VALUE=DATE:2025-09-12T130000+0200
UID:sn_183@logic-works.net
END:VEVENT
END:VCALENDAR