BEGIN:VCALENDAR
METHOD:PUBLISH
PRODID:-//LogicWorks GmbH//NONSGML Contentory//EN
VERSION:2.0
BEGIN:VEVENT
DTSTAMP:20260422T193341Z
SUMMARY:Training in 3D Discrete Anisotropic Radiative Transfer (DART)
DESCRIPTION:In diesen zwei Tagen werden drei DART-erfahrene Wissenschaftler das DART-M
 odell erläutern und ein Training in dessen Anwendung geben. https://flex-
 mission.eu/dart_de
LOCATION:Geozentrum der Universität Bonn
CREATED:2024-08-14T104040+0200
LAST-MODIFIED:2024-08-14T104040+0200
DTSTART;VALUE=DATE:2024-09-09T090000+0200
DTEND;VALUE=DATE:2024-09-10T170000+0200
UID:sn_138@logic-works.net
END:VEVENT
END:VCALENDAR