BEGIN:VCALENDAR
METHOD:PUBLISH
PRODID:-//LogicWorks GmbH//NONSGML Contentory//EN
VERSION:2.0
BEGIN:VEVENT
DTSTAMP:20260421T125142Z
SUMMARY:Recent Advances in Quantitative Remote Sensing (RAQRS) 2024
DESCRIPTION:Das 7. internationale Symposium "Recent Advances in Quantitative Remote Se
 nisng"\, das von der Global Change Unit der Universität Valencia organisi
 ert wird\, hat "passive und aktive Fluoreszenz" als eines der Hauptthemen.
  https://flex-mission.eu/RAQRS24-de
LOCATION:l'Auditori Torrent
CREATED:2024-02-21T084504+0100
LAST-MODIFIED:2024-02-21T090932+0100
DTSTART;VALUE=DATE:2024-09-23T000000+0200
DTEND;VALUE=DATE:2024-09-27T235959+0200
UID:sn_113@logic-works.net
END:VEVENT
END:VCALENDAR